BEGIN:VCALENDAR
VERSION:2.0
PRODID:-//waitingfor.events//Event Calendar//EN
CALSCALE:GREGORIAN
METHOD:PUBLISH
BEGIN:VEVENT
UID:34495f24-02bc-4076-b1f3-31863ad076fa@waitingfor.events
DTSTAMP:20260422T064830Z
DTSTART:20260423T000000Z
DTEND:20260423T003000Z
SUMMARY:Release
DESCRIPTION:AeroWave OS is a singleplayer rhythm game with a nostalgic aesthetic based on the 2000’s. With graphics based on the older Windows Vista and 7 operational systems\, you play songs with a virtual mascot\, with the mission to destroy computer viruses\, maintaining your computer clean of malware.
URL:https://waitingfor.eventshttps://waitingfor.events/hub/aerowave-os/release
LOCATION:https://waitingfor.eventshttps://waitingfor.events/hub/aerowave-os/release
STATUS:CONFIRMED
SEQUENCE:0
END:VEVENT
END:VCALENDAR