BEGIN:VCALENDAR
VERSION:2.0
PRODID:-//waitingfor.events//Event Calendar//EN
CALSCALE:GREGORIAN
METHOD:PUBLISH
BEGIN:VEVENT
UID:646e10f7-ae8f-4255-876a-d6dd4c120034@waitingfor.events
DTSTAMP:20260420T142127Z
DTSTART:20260422T000000Z
DTEND:20260422T003000Z
SUMMARY:Release
DESCRIPTION:This is an exploration-driven adventure game. Alice and Noir Bunny set out on a journey together\, discovering strange worlds while searching for a lost voice. Along the way\, players engage in puzzles\, mini-games\, and immersive interactive experiences filled with wonder and discovery.
URL:https://waitingfor.eventshttps://waitingfor.events/hub/alice-in-wonder-underland-aiwu/release
LOCATION:https://waitingfor.eventshttps://waitingfor.events/hub/alice-in-wonder-underland-aiwu/release
STATUS:CONFIRMED
SEQUENCE:0
END:VEVENT
END:VCALENDAR