BEGIN:VCALENDAR
VERSION:2.0
PRODID:-//waitingfor.events//Event Calendar//EN
CALSCALE:GREGORIAN
METHOD:PUBLISH
BEGIN:VEVENT
UID:2a676b65-48b9-41a6-9abe-2338319557c9@waitingfor.events
DTSTAMP:20260420T142234Z
DTSTART:20260520T010000Z
DTEND:20260520T013000Z
SUMMARY:Season 3 Premiere
DESCRIPTION:Baylen Out Loud Baylen Dupree\, a vibrant and resilient 22-year-old with Tourette Syndrome. Every day\, Baylen faces a variety of extreme and uncontrollable vocal and motor tics while navigating the challenges of becoming an independent adult. Supported by her loving family in West Virginia\, including her five siblings\, devoted boyfriend\, Colin\, protective father\, Allen\, and strong and independent mother\, Julie\, Baylen learns to manage the complexities of Tourette and embrace life fully.
URL:https://waitingfor.eventshttps://waitingfor.events/hub/baylen-out-loud/season-3-premiere
LOCATION:https://waitingfor.eventshttps://waitingfor.events/hub/baylen-out-loud/season-3-premiere
STATUS:CONFIRMED
SEQUENCE:0
END:VEVENT
END:VCALENDAR