BEGIN:VCALENDAR
VERSION:2.0
PRODID:-//waitingfor.events//Event Calendar//EN
CALSCALE:GREGORIAN
METHOD:PUBLISH
BEGIN:VEVENT
UID:a8f68217-715b-45d2-a0e9-76237b459bd9@waitingfor.events
DTSTAMP:20260424T080016Z
DTSTART:20260427T000000Z
DTEND:20260427T003000Z
SUMMARY:Release
DESCRIPTION:A chaotic PvP first person shooter with fully destructible terrain where you need to solve quick Captchas to reload your guns. Build bridges\, dig tunnels\, and blow everything up while competing in teams with fellow humans in games of capture the flag for the amusement of your AI overlords.
URL:https://waitingfor.eventshttps://waitingfor.events/hub/captcha-the-flag/release
LOCATION:https://waitingfor.eventshttps://waitingfor.events/hub/captcha-the-flag/release
STATUS:CONFIRMED
SEQUENCE:0
END:VEVENT
END:VCALENDAR