BEGIN:VCALENDAR
VERSION:2.0
PRODID:-//waitingfor.events//Event Calendar//EN
CALSCALE:GREGORIAN
METHOD:PUBLISH
BEGIN:VEVENT
UID:641a2c04-0a7a-460c-a591-5d2df4861840@waitingfor.events
DTSTAMP:20260423T080931Z
DTSTART:20260424T000000Z
DTEND:20260424T003000Z
SUMMARY:Release
DESCRIPTION:Help Capyshan and Capymay rebuild the Capyvarias empire. Everything is gone. Only these two brave capybaras remain\, determined to raise their community from the ashes. Can you click your way to survival\, growth\, and a future among the stars?
URL:https://waitingfor.eventshttps://waitingfor.events/hub/capyvarias/release
LOCATION:https://waitingfor.eventshttps://waitingfor.events/hub/capyvarias/release
STATUS:CONFIRMED
SEQUENCE:0
END:VEVENT
END:VCALENDAR