BEGIN:VCALENDAR
VERSION:2.0
PRODID:-//waitingfor.events//Event Calendar//EN
CALSCALE:GREGORIAN
METHOD:PUBLISH
BEGIN:VEVENT
UID:edfe95e0-a660-44fb-a399-f82b1e24acb7@waitingfor.events
DTSTAMP:20260424T080517Z
DTSTART:20260509T000000Z
DTEND:20260509T003000Z
SUMMARY:Season 22 Premiere
DESCRIPTION:It's the deadliest job on earth: crab fishing off the Alaskan coast on the icy Bering Sea. These adventurers will battle Arctic weather\, brutal waves\, and a ticking clock for big money in this modern-day gold rush from which they may never return.
URL:https://waitingfor.eventshttps://waitingfor.events/hub/deadliest-catch/season-22-premiere
LOCATION:https://waitingfor.eventshttps://waitingfor.events/hub/deadliest-catch/season-22-premiere
STATUS:CONFIRMED
SEQUENCE:0
END:VEVENT
END:VCALENDAR