BEGIN:VCALENDAR
VERSION:2.0
PRODID:-//waitingfor.events//Event Calendar//EN
CALSCALE:GREGORIAN
METHOD:PUBLISH
BEGIN:VEVENT
UID:44f618b5-ac18-4721-9c00-03ab5c9b4c1f@waitingfor.events
DTSTAMP:20260425T103611Z
DTSTART:20260526T020000Z
DTEND:20260526T023000Z
SUMMARY:Season 1 Premiere
DESCRIPTION:With opinions everywhere about where to find the best bites\, Food Network cuts through the noise with Food Network's Top 10 - a new series delivering definitive\, crave-worthy rankings of the can't miss dishes across America. Award-winning chefs break down the bites that are truly worth the hype\, the splurge\, and even a road trip. Each episode counts down the Top 10 in a craveable category - from Brunch and BBQ to Burgers - serving up expert insight\, insider intel\, saucy secrets\, and plenty of hot takes along the way.Hand-picked by a panel of acclaimed chefs\, the rankings are driven by firsthand experience\, expertise\, and passionate debate about what makes a truly great dish.
URL:https://waitingfor.eventshttps://waitingfor.events/hub/food-networks-top-10/season-1-premiere
LOCATION:https://waitingfor.eventshttps://waitingfor.events/hub/food-networks-top-10/season-1-premiere
STATUS:CONFIRMED
SEQUENCE:0
END:VEVENT
END:VCALENDAR