BEGIN:VCALENDAR
VERSION:2.0
PRODID:-//waitingfor.events//Event Calendar//EN
CALSCALE:GREGORIAN
METHOD:PUBLISH
BEGIN:VEVENT
UID:ed38910d-a345-4d57-8530-4196df7713a8@waitingfor.events
DTSTAMP:20260423T083003Z
DTSTART:20260506T000000Z
DTEND:20260506T003000Z
SUMMARY:Season 14 Premiere
DESCRIPTION:In the last decade\, two million Americans have attempted to leave behind civilization in favor of life off-the-grid – but most have failed. For the hundreds of families who decide to become homesteaders\, the learning curve is a steep one. Now comes Homestead Rescue. Struggling homesteaders across the country are turning expert homesteader Marty Raney--along with his daughter Misty Raney\, a farmer\, and son Matt Raney\, a hunter and fisherman--to teach them the necessary skills to survive the wilderness. The stakes are high\, but the Raney family is determined to prepare these families for nature's worst and set them up for success. Each family faces the ultimate decision: will they tough out their first year or pack up and return to civilization?
URL:https://waitingfor.eventshttps://waitingfor.events/hub/homestead-rescue/season-14-premiere
LOCATION:https://waitingfor.eventshttps://waitingfor.events/hub/homestead-rescue/season-14-premiere
STATUS:CONFIRMED
SEQUENCE:0
END:VEVENT
END:VCALENDAR