BEGIN:VCALENDAR
VERSION:2.0
PRODID:-//waitingfor.events//Event Calendar//EN
CALSCALE:GREGORIAN
METHOD:PUBLISH
BEGIN:VEVENT
UID:3ec3f37b-ff0b-4bdb-a38f-e7a59e19c9f5@waitingfor.events
DTSTAMP:20260420T142326Z
DTSTART:20260520T010000Z
DTEND:20260520T013000Z
SUMMARY:Season 1 Premiere
DESCRIPTION:In the city that never sleeps\, a group of New Yorkers navigates the biggest transitions of their lives — marriage\, parenthood\, reinvention\, and the reality of growing up without growing apart. Can they have it all\, or will they need to choose between the lives they've built and the futures they never saw coming?
URL:https://waitingfor.eventshttps://waitingfor.events/hub/in-the-city/season-1-premiere
LOCATION:https://waitingfor.eventshttps://waitingfor.events/hub/in-the-city/season-1-premiere
STATUS:CONFIRMED
SEQUENCE:0
END:VEVENT
END:VCALENDAR