BEGIN:VCALENDAR
VERSION:2.0
PRODID:-//waitingfor.events//Event Calendar//EN
CALSCALE:GREGORIAN
METHOD:PUBLISH
BEGIN:VEVENT
UID:316456c9-50b3-4b6a-bd22-8eded76020f8@waitingfor.events
DTSTAMP:20260423T081526Z
DTSTART:20260518T020000Z
DTEND:20260518T023000Z
SUMMARY:Season 1 Premiere
DESCRIPTION:In the Eye of the Storm: Chasers\, a heart-pounding ride into nature at its most extreme. The series follows twelve teams of certified weather spotters and professional storm chasers as they self-shoot their close encounters with dangerous tornadoes. With no producers or camera crews\, each team ventures into America's Tornado Alley\, risking everything to spot tornados\, warn people in harm's way\, and help save lives when disaster strikes.The series captures raw\, harrowing encounters as storm chasers\, outfitted with their own camera rigs and advanced weather tech\, race into the American Midwest during one of the most active tornado seasons in decades. These men and women risk their lives while redefining storm chasing for a new generation.   
URL:https://waitingfor.eventshttps://waitingfor.events/hub/in-the-eye-of-the-storm-chasers/season-1-premiere
LOCATION:https://waitingfor.eventshttps://waitingfor.events/hub/in-the-eye-of-the-storm-chasers/season-1-premiere
STATUS:CONFIRMED
SEQUENCE:0
END:VEVENT
END:VCALENDAR