BEGIN:VCALENDAR
VERSION:2.0
PRODID:-//waitingfor.events//Event Calendar//EN
CALSCALE:GREGORIAN
METHOD:PUBLISH
BEGIN:VEVENT
UID:beae5fd1-2b3e-4a5d-b88e-3c5f8563a050@waitingfor.events
DTSTAMP:20260424T080421Z
DTSTART:20260425T000000Z
DTEND:20260425T003000Z
SUMMARY:Release
DESCRIPTION:In the context of the first Internet wave sweeping the world\, can the player play the role of an entrepreneur who has failed many times but never gives up\, and become the world's number one Internet company in this great era?
URL:https://waitingfor.eventshttps://waitingfor.events/hub/internet-entrepreneurship-simulator/release
LOCATION:https://waitingfor.eventshttps://waitingfor.events/hub/internet-entrepreneurship-simulator/release
STATUS:CONFIRMED
SEQUENCE:0
END:VEVENT
END:VCALENDAR