BEGIN:VCALENDAR
VERSION:2.0
PRODID:-//waitingfor.events//Event Calendar//EN
CALSCALE:GREGORIAN
METHOD:PUBLISH
BEGIN:VEVENT
UID:e0b5e45f-9cbb-4ad8-8f71-83e96d0f421f@waitingfor.events
DTSTAMP:20260424T081546Z
DTSTART:20260525T000000Z
DTEND:20260525T003000Z
SUMMARY:Season 2026 Premiere
DESCRIPTION:The National Memorial Day Concert features uplifting musical performances\, documentary footage\, and dramatic readings that honor the military service of all our men and women in uniform and their families at home. One of PBS' highest-rated programs\, featuring an all-star lineup\, the multi-award-winning television event has become an American tradition.The concert unites the country in remembrance and appreciation of those who gave their lives for our nation and serves those who are grieving through the mission put forward by Abraham Lincoln in his second inaugural address\, "Let us strive on to finish the work we are in\; to bind up the nation's wounds\; to care for him who shall have borne the battle\, and for his widow\, and his orphan."The National Memorial Day Concert airs live from the U.S. Capitol to an audience of hundreds of thousands\, millions at home\, and American troops around the world.
URL:https://waitingfor.eventshttps://waitingfor.events/hub/national-memorial-day-concert/season-2026-premiere
LOCATION:https://waitingfor.eventshttps://waitingfor.events/hub/national-memorial-day-concert/season-2026-premiere
STATUS:CONFIRMED
SEQUENCE:0
END:VEVENT
END:VCALENDAR