BEGIN:VCALENDAR
VERSION:2.0
PRODID:-//waitingfor.events//Event Calendar//EN
CALSCALE:GREGORIAN
METHOD:PUBLISH
BEGIN:VEVENT
UID:2e5c45fc-8e32-4e74-9bc1-0764f7860e3a@waitingfor.events
DTSTAMP:20260423T080809Z
DTSTART:20260515T000000Z
DTEND:20260515T003000Z
SUMMARY:Release
DESCRIPTION:After breaking the mysterious "One Wish Willow" to win his crush's heart\, a hopeless romantic finds himself getting exactly what he asked for but soon discovers that some desires come at a dark\, sinister price.
URL:https://waitingfor.eventshttps://waitingfor.events/hub/obsession/release
LOCATION:https://waitingfor.eventshttps://waitingfor.events/hub/obsession/release
STATUS:CONFIRMED
SEQUENCE:0
END:VEVENT
END:VCALENDAR