BEGIN:VCALENDAR
VERSION:2.0
PRODID:-//waitingfor.events//Event Calendar//EN
CALSCALE:GREGORIAN
METHOD:PUBLISH
BEGIN:VEVENT
UID:1d63833f-186d-4624-8ead-0771a8d09ce5@waitingfor.events
DTSTAMP:20260420T142449Z
DTSTART:20260430T000000Z
DTEND:20260430T003000Z
SUMMARY:Release
DESCRIPTION:ONE OK ROCK DETOX JAPAN TOUR 2025 AT NISSAN STADIUM IN CINEMAS unleashes the raw pulse of a career-defining night—documenting the band's commanding takeover of Japan's iconic Nissan Stadium—where thunderous riffs\, soaring vocals\, and 70\,000 voices collide into something electric\, forging an unbreakable bond between the band and their worldwide legion of fans.
URL:https://waitingfor.eventshttps://waitingfor.events/hub/one-ok-rock-detox-japan-tour-at-nissan-stadium-2025-in-cinemas/release
LOCATION:https://waitingfor.eventshttps://waitingfor.events/hub/one-ok-rock-detox-japan-tour-at-nissan-stadium-2025-in-cinemas/release
STATUS:CONFIRMED
SEQUENCE:0
END:VEVENT
END:VCALENDAR