BEGIN:VCALENDAR
VERSION:2.0
PRODID:-//waitingfor.events//Event Calendar//EN
CALSCALE:GREGORIAN
METHOD:PUBLISH
BEGIN:VEVENT
UID:d4a88602-736e-4c34-adc4-b4d8f35a1180@waitingfor.events
DTSTAMP:20260424T082006Z
DTSTART:20260525T030000Z
DTEND:20260525T033000Z
SUMMARY:Season 9 Premiere
DESCRIPTION:Rick is a mentally gifted\, but sociopathic and alcoholic scientist and a grandfather to Morty\; an awkward\, impressionable\, and somewhat spineless teenage boy. Rick moves into the family home of Morty\, where he immediately becomes a bad influence.
URL:https://waitingfor.eventshttps://waitingfor.events/hub/rick-and-morty/season-9-premiere
LOCATION:https://waitingfor.eventshttps://waitingfor.events/hub/rick-and-morty/season-9-premiere
STATUS:CONFIRMED
SEQUENCE:0
END:VEVENT
END:VCALENDAR