BEGIN:VCALENDAR
VERSION:2.0
PRODID:-//waitingfor.events//Event Calendar//EN
CALSCALE:GREGORIAN
METHOD:PUBLISH
BEGIN:VEVENT
UID:e3b5e66f-d62c-46c4-841d-2503410e8e61@waitingfor.events
DTSTAMP:20260420T141938Z
DTSTART:20260508T000000Z
DTEND:20260508T003000Z
SUMMARY:Release
DESCRIPTION:On the grounds of a medieval German university town looms an imposing Ginkgo biloba\, a tree whose longevity stands in marked contrast to three intimate\, human-scaled stories. In 1908\, the university’s first female student gains admission into the prestigious botany department\, confronting the sexism of both professors and peers. In 1972\, amidst counterculture movements\, a reserved student finds his attention captured by a fellow housemate and the geranium plant she studies. In 2020\, during the COVID-19 pandemic\, a neuroscientist from Hong Kong secures the help of a renowned botanist for an experiment on the old ginkgo tree.
URL:https://waitingfor.eventshttps://waitingfor.events/hub/silent-friend/release
LOCATION:https://waitingfor.eventshttps://waitingfor.events/hub/silent-friend/release
STATUS:CONFIRMED
SEQUENCE:0
END:VEVENT
END:VCALENDAR