BEGIN:VCALENDAR
VERSION:2.0
PRODID:-//waitingfor.events//Event Calendar//EN
CALSCALE:GREGORIAN
METHOD:PUBLISH
BEGIN:VEVENT
UID:10cbc926-29b8-4cfd-bae5-f2641aba45bc@waitingfor.events
DTSTAMP:20260424T081740Z
DTSTART:20260503T220000Z
DTEND:20260503T223000Z
SUMMARY:Season 19 Premiere
DESCRIPTION:Snapped: Killer Couples features couples whose passion drives them to commit terrible criminal acts. Through recreations and gripping firsthand accounts\, each episode takes a deep dive into the stories behind the couples' romance\, how their relationship evolved once love turned into manipulation and what ultimately drove them to commit the crime.
URL:https://waitingfor.eventshttps://waitingfor.events/hub/snapped-killer-couples/season-19-premiere
LOCATION:https://waitingfor.eventshttps://waitingfor.events/hub/snapped-killer-couples/season-19-premiere
STATUS:CONFIRMED
SEQUENCE:0
END:VEVENT
END:VCALENDAR