BEGIN:VCALENDAR
VERSION:2.0
PRODID:-//waitingfor.events//Event Calendar//EN
CALSCALE:GREGORIAN
METHOD:PUBLISH
BEGIN:VEVENT
UID:1fa54f6c-a9d2-4489-a700-9aeee672c2d3@waitingfor.events
DTSTAMP:20260424T080537Z
DTSTART:20260428T000000Z
DTEND:20260428T003000Z
SUMMARY:Release
DESCRIPTION:In a world where electric cars reign supreme\, you are now the owner of an old gas station out in the wilderness. Establish trade\, develop your business and uncover the secret of this strange place in the compact gas station simulator.
URL:https://waitingfor.eventshttps://waitingfor.events/hub/the-last-gas-station/release
LOCATION:https://waitingfor.eventshttps://waitingfor.events/hub/the-last-gas-station/release
STATUS:CONFIRMED
SEQUENCE:0
END:VEVENT
END:VCALENDAR