BEGIN:VCALENDAR
VERSION:2.0
PRODID:-//waitingfor.events//Event Calendar//EN
CALSCALE:GREGORIAN
METHOD:PUBLISH
BEGIN:VEVENT
UID:532c6c51-dd25-4749-8611-16aa960ba2b9@waitingfor.events
DTSTAMP:20260420T142418Z
DTSTART:20260520T020300Z
DTEND:20260520T023300Z
SUMMARY:Season 3 Premiere
DESCRIPTION:The Secret of Skinwalker Ranch: Behind the Gates offers a more in-depth look at the mysteries surrounding the ranch and the team's investigations\, often featuring interviews with team members and experts.  
URL:https://waitingfor.eventshttps://waitingfor.events/hub/the-secret-of-skinwalker-ranch-behind-the-gates/season-3-premiere
LOCATION:https://waitingfor.eventshttps://waitingfor.events/hub/the-secret-of-skinwalker-ranch-behind-the-gates/season-3-premiere
STATUS:CONFIRMED
SEQUENCE:0
END:VEVENT
END:VCALENDAR