BEGIN:VCALENDAR
VERSION:2.0
PRODID:-//waitingfor.events//Event Calendar//EN
CALSCALE:GREGORIAN
METHOD:PUBLISH
BEGIN:VEVENT
UID:442e90b2-6fcb-449c-b511-7e760fd4bce9@waitingfor.events
DTSTAMP:20260420T142443Z
DTSTART:20260520T010000Z
DTEND:20260520T013000Z
SUMMARY:Season 7 Premiere
DESCRIPTION:Gaining full and unprecedented access to one of the most infamous and secretive hotspots of paranormal and UFO-related activities on earth\, The Secret of Skinwalker Ranch will feature a team of scientists and experts who will conduct a thorough search of this infamous 512-acre property located in Utah's Uinta Basin. They will attempt to find out the truth behind more than 200 years of mysteries - involving everything from UFO sightings and paranormal activities to animal mutilations and Native American legends of a shape-shifting creature known simply as The Skinwalker.
URL:https://waitingfor.eventshttps://waitingfor.events/hub/the-secret-of-skinwalker-ranch/season-7-premiere
LOCATION:https://waitingfor.eventshttps://waitingfor.events/hub/the-secret-of-skinwalker-ranch/season-7-premiere
STATUS:CONFIRMED
SEQUENCE:0
END:VEVENT
END:VCALENDAR