BEGIN:VCALENDAR
VERSION:2.0
PRODID:-//waitingfor.events//Event Calendar//EN
CALSCALE:GREGORIAN
METHOD:PUBLISH
BEGIN:VEVENT
UID:b8e8028d-8287-4321-baeb-72f93913b8bf@waitingfor.events
DTSTAMP:20260424T080403Z
DTSTART:20260426T000000Z
DTEND:20260426T003000Z
SUMMARY:Release
DESCRIPTION:Hey player\, It's the day before the Millennium. Follow me\, I will give you a unique psychological horror experience. This isn’t just a game—it’s a doorway. Trust me\, and I will lead you to see the god.‍
URL:https://waitingfor.eventshttps://waitingfor.events/hub/the-window-8-millennium/release
LOCATION:https://waitingfor.eventshttps://waitingfor.events/hub/the-window-8-millennium/release
STATUS:CONFIRMED
SEQUENCE:0
END:VEVENT
END:VCALENDAR