BEGIN:VCALENDAR
VERSION:2.0
PRODID:-//waitingfor.events//Event Calendar//EN
CALSCALE:GREGORIAN
METHOD:PUBLISH
BEGIN:VEVENT
UID:b76acf7c-9785-435a-8601-fc1627211c82@waitingfor.events
DTSTAMP:20260423T081421Z
DTSTART:20260524T000000Z
DTEND:20260524T003000Z
SUMMARY:Season 2026 Premiere
DESCRIPTION:A law school student and her friends\, set out to prove her brother's innocence but the only way to clear his name is by finding the real killer.
URL:https://waitingfor.eventshttps://waitingfor.events/hub/true-justice/season-2026-premiere
LOCATION:https://waitingfor.eventshttps://waitingfor.events/hub/true-justice/season-2026-premiere
STATUS:CONFIRMED
SEQUENCE:0
END:VEVENT
END:VCALENDAR