BEGIN:VCALENDAR
VERSION:2.0
PRODID:-//waitingfor.events//Event Calendar//EN
CALSCALE:GREGORIAN
METHOD:PUBLISH
BEGIN:VEVENT
UID:1289df57-ee7c-4909-9f1a-8fa9493f6f23@waitingfor.events
DTSTAMP:20260424T082203Z
DTSTART:20260525T000000Z
DTEND:20260525T003000Z
SUMMARY:Season 6 Premiere
DESCRIPTION:Actor and former WWE writer Freddie Prinze Jr. leads a roundtable discussion of WWE luminaries to delve into the storylines and dynamic characters behind the epic battles that built the WWE. Each episode features archival footage from WWE's library as well as interviews with the Legends involved and the Superstars that watched these rivalries unfold. Rivalries featured this season include "Stone Cold" Steve Austin vs. The Rock\, Bret "The Hitman" Hart vs. Shawn Michaels\, The Undertaker vs. Kane\, John Cena vs. Edge and the "Monday Night Wars" between WCW and WWE.
URL:https://waitingfor.eventshttps://waitingfor.events/hub/wwe-rivals/season-6-premiere
LOCATION:https://waitingfor.eventshttps://waitingfor.events/hub/wwe-rivals/season-6-premiere
STATUS:CONFIRMED
SEQUENCE:0
END:VEVENT
END:VCALENDAR